BEGIN:VCALENDAR
VERSION:2.0
PRODID:-//The Twig - ECPv6.15.5//NONSGML v1.0//EN
CALSCALE:GREGORIAN
METHOD:PUBLISH
X-WR-CALNAME:The Twig
X-ORIGINAL-URL:https://www.thetwig.org
X-WR-CALDESC:Events for The Twig
REFRESH-INTERVAL;VALUE=DURATION:PT1H
X-Robots-Tag:noindex
X-PUBLISHED-TTL:PT1H
BEGIN:VTIMEZONE
TZID:America/New_York
BEGIN:DAYLIGHT
TZOFFSETFROM:-0500
TZOFFSETTO:-0400
TZNAME:EDT
DTSTART:20210314T070000
END:DAYLIGHT
BEGIN:STANDARD
TZOFFSETFROM:-0400
TZOFFSETTO:-0500
TZNAME:EST
DTSTART:20211107T060000
END:STANDARD
END:VTIMEZONE
BEGIN:VEVENT
DTSTART;TZID=America/New_York:20211031T133000
DTEND;TZID=America/New_York:20211031T153000
DTSTAMP:20260422T190539
CREATED:20210930T213031Z
LAST-MODIFIED:20210930T213031Z
UID:10000196-1635687000-1635694200@www.thetwig.org
SUMMARY:Tour of Oak Hill Cemetery
DESCRIPTION:Details TBA
URL:https://www.thetwig.org/event/tour-of-oak-hill-cemetery/
LOCATION:Oak Hill Cemetery\, 3001 R Street\, NW\, Washington\, DC\, 20007\, United States
ORGANIZER;CN="Entertainment Committee":MAILTO:entertainment@thetwig.org
END:VEVENT
BEGIN:VEVENT
DTSTART;TZID=America/New_York:20210925T100000
DTEND;TZID=America/New_York:20210925T150000
DTSTAMP:20260422T190539
CREATED:20210519T165010Z
LAST-MODIFIED:20210915T201203Z
UID:10000174-1632564000-1632582000@www.thetwig.org
SUMMARY:The Historic Alexandria Homes Tour
DESCRIPTION:Please visit the Homes Tour sections of our website for details. Until 12 noon\, Friday\, September 24\, 2021 you may purchase tickets thru our online store \n  \n  \n 
URL:https://www.thetwig.org/event/the-historic-alexandria-homes-tour/
CATEGORIES:Public Events
END:VEVENT
BEGIN:VEVENT
DTSTART;TZID=America/New_York:20210907T100000
DTEND;TZID=America/New_York:20210907T150000
DTSTAMP:20260422T190539
CREATED:20210727T132038Z
LAST-MODIFIED:20210727T132327Z
UID:10000186-1631008800-1631026800@www.thetwig.org
SUMMARY:Thrift Shop Reopens
DESCRIPTION:
URL:https://www.thetwig.org/event/thrift-shop-reopens/
LOCATION:The Thrift Shop\, 106 North Columbus Street\, Alexandria\, VA\, 22314
CATEGORIES:Public Events
END:VEVENT
BEGIN:VEVENT
DTSTART;TZID=America/New_York:20210821T100000
DTEND;TZID=America/New_York:20210821T150000
DTSTAMP:20260422T190539
CREATED:20210720T224835Z
LAST-MODIFIED:20210727T132522Z
UID:10000185-1629540000-1629558000@www.thetwig.org
SUMMARY:Donation Drop-Off Day
DESCRIPTION:Come by and drop off your donations of gently used\, clean clothing and housewares at the Thrift Shop in Old Town Alexandria.  Our volunteers will be ready to help you unload. For a list of donation guidelines\, please click here. \nThank you for your generosity.  All proceeds benefit Inova Alexandria Hospital.
URL:https://www.thetwig.org/event/donation-drop-off-day/
LOCATION:The Thrift Shop\, 106 North Columbus Street\, Alexandria\, VA\, 22314
CATEGORIES:Public Events
ORGANIZER;CN="Thrift Shop Chair":MAILTO:thriftshop@thetwig.org
END:VEVENT
BEGIN:VEVENT
DTSTART;TZID=America/New_York:20210626T150000
DTEND;TZID=America/New_York:20210626T150000
DTSTAMP:20260422T190539
CREATED:20210519T164706Z
LAST-MODIFIED:20210519T164706Z
UID:10000173-1624719600-1624719600@www.thetwig.org
SUMMARY:Thrift Shop Closes for the Summer
DESCRIPTION:The Thrift Shop will close for the summer at 3 pm.  We look forward to re-opening in the fall and welcoming all our loyal shoppers!
URL:https://www.thetwig.org/event/thrift-shop-closes-for-the-summer/
LOCATION:The Thrift Shop\, 106 North Columbus Street\, Alexandria\, VA\, 22314
CATEGORIES:Public Events
END:VEVENT
END:VCALENDAR