BEGIN:VCALENDAR
VERSION:2.0
PRODID:-//The Twig - ECPv6.15.5//NONSGML v1.0//EN
CALSCALE:GREGORIAN
METHOD:PUBLISH
X-ORIGINAL-URL:https://www.thetwig.org
X-WR-CALDESC:Events for The Twig
REFRESH-INTERVAL;VALUE=DURATION:PT1H
X-Robots-Tag:noindex
X-PUBLISHED-TTL:PT1H
BEGIN:VTIMEZONE
TZID:America/New_York
BEGIN:DAYLIGHT
TZOFFSETFROM:-0500
TZOFFSETTO:-0400
TZNAME:EDT
DTSTART:20220313T070000
END:DAYLIGHT
BEGIN:STANDARD
TZOFFSETFROM:-0400
TZOFFSETTO:-0500
TZNAME:EST
DTSTART:20221106T060000
END:STANDARD
END:VTIMEZONE
BEGIN:VEVENT
DTSTART;TZID=America/New_York:20221218T100000
DTEND;TZID=America/New_York:20221218T150000
DTSTAMP:20260422T073042
CREATED:20220630T194812Z
LAST-MODIFIED:20220630T194812Z
UID:10000139-1671357600-1671375600@www.thetwig.org
SUMMARY:Closed for the Christmas holidays
DESCRIPTION:At the conclusion of our Saturday hours on December 17\, the Twig Shop will be closed for the Christmas holidays from December 18 through January 4. We reopen on Wednesday\, January 5\, 2023.
URL:https://www.thetwig.org/event/closed-for-the-christmas-holidays/
CATEGORIES:Public Events
END:VEVENT
END:VCALENDAR