BEGIN:VCALENDAR
VERSION:2.0
PRODID:-//The Twig - ECPv6.15.5//NONSGML v1.0//EN
CALSCALE:GREGORIAN
METHOD:PUBLISH
X-ORIGINAL-URL:https://www.thetwig.org
X-WR-CALDESC:Events for The Twig
REFRESH-INTERVAL;VALUE=DURATION:PT1H
X-Robots-Tag:noindex
X-PUBLISHED-TTL:PT1H
BEGIN:VTIMEZONE
TZID:America/New_York
BEGIN:DAYLIGHT
TZOFFSETFROM:-0500
TZOFFSETTO:-0400
TZNAME:EDT
DTSTART:20220313T070000
END:DAYLIGHT
BEGIN:STANDARD
TZOFFSETFROM:-0400
TZOFFSETTO:-0500
TZNAME:EST
DTSTART:20221106T060000
END:STANDARD
END:VTIMEZONE
BEGIN:VEVENT
DTSTART;TZID=America/New_York:20221124T100000
DTEND;TZID=America/New_York:20221124T150000
DTSTAMP:20260422T092333
CREATED:20220630T193417Z
LAST-MODIFIED:20220630T193530Z
UID:10000138-1669284000-1669302000@www.thetwig.org
SUMMARY:Closed for Thanksgiving
DESCRIPTION:We are closed for the Thanksgiving holiday. The shop will reopen on Friday\, November 25.
URL:https://www.thetwig.org/event/closed-for-thanksgiving/
CATEGORIES:Public Events
END:VEVENT
END:VCALENDAR